BEGIN:VCALENDAR
VERSION:2.0
PRODID:-//AAOMS - ECPv6.15.20//NONSGML v1.0//EN
CALSCALE:GREGORIAN
METHOD:PUBLISH
X-WR-CALNAME:AAOMS
X-ORIGINAL-URL:https://aaomsdev.com
X-WR-CALDESC:Events for AAOMS
REFRESH-INTERVAL;VALUE=DURATION:PT1H
X-Robots-Tag:noindex
X-PUBLISHED-TTL:PT1H
BEGIN:VTIMEZONE
TZID:America/Chicago
BEGIN:DAYLIGHT
TZOFFSETFROM:-0600
TZOFFSETTO:-0500
TZNAME:CDT
DTSTART:20240310T080000
END:DAYLIGHT
BEGIN:STANDARD
TZOFFSETFROM:-0500
TZOFFSETTO:-0600
TZNAME:CST
DTSTART:20241103T070000
END:STANDARD
BEGIN:DAYLIGHT
TZOFFSETFROM:-0600
TZOFFSETTO:-0500
TZNAME:CDT
DTSTART:20250309T080000
END:DAYLIGHT
BEGIN:STANDARD
TZOFFSETFROM:-0500
TZOFFSETTO:-0600
TZNAME:CST
DTSTART:20251102T070000
END:STANDARD
BEGIN:DAYLIGHT
TZOFFSETFROM:-0600
TZOFFSETTO:-0500
TZNAME:CDT
DTSTART:20260308T080000
END:DAYLIGHT
BEGIN:STANDARD
TZOFFSETFROM:-0500
TZOFFSETTO:-0600
TZNAME:CST
DTSTART:20261101T070000
END:STANDARD
END:VTIMEZONE
BEGIN:VEVENT
DTSTART;VALUE=DATE:20250517
DTEND;VALUE=DATE:20250518
DTSTAMP:20260422T172426
CREATED:20241017T191313Z
LAST-MODIFIED:20241115T234307Z
UID:16079-1747440000-1747526399@aaomsdev.com
SUMMARY:Office-Based Emergency Airway Management (OBEAM) Module
DESCRIPTION:
URL:/practice/anesthesia/aaoms-national-simulation-program/2025-obeam/
LOCATION:Daniel M. Laskin Institute for OMS Education and Innovation\, AAOMS Headquarters\, West Bryn Mawr Avenue 9700\, Rosemont\, IL\, 60018\, United States
CATEGORIES:Clinical,OMS Professional Staff
END:VEVENT
BEGIN:VEVENT
DTSTART;TZID=America/Chicago:20250520T180000
DTEND;TZID=America/Chicago:20250520T190000
DTSTAMP:20260422T172426
CREATED:20250311T193558Z
LAST-MODIFIED:20250311T193856Z
UID:17037-1747764000-1747767600@aaomsdev.com
SUMMARY:Orthognathic Surgery in Gender Affirmation webinar
DESCRIPTION:
URL:https://ceonline.aaomsdev.com/products/orthognathic-surgery-in-gender-affirmation
CATEGORIES:CE,Clinical,OMS,Resident
END:VEVENT
BEGIN:VEVENT
DTSTART;TZID=America/Chicago:20250527T180000
DTEND;TZID=America/Chicago:20250527T190000
DTSTAMP:20260422T172426
CREATED:20250311T193810Z
LAST-MODIFIED:20250311T193823Z
UID:17038-1748368800-1748372400@aaomsdev.com
SUMMARY:Enhanced Recovery After Surgery (ERAS) Protocols in Oral and Maxillofacial Surgery webinar
DESCRIPTION:
URL:https://ceonline.aaomsdev.com/products/enhanced-recovery-after-surgery-eras-protocols-in-oral-and-maxillofacial-surgery
CATEGORIES:CE,Clinical,OMS,Resident
END:VEVENT
END:VCALENDAR