BEGIN:VCALENDAR
VERSION:2.0
PRODID:-//AAOMS - ECPv6.15.20//NONSGML v1.0//EN
CALSCALE:GREGORIAN
METHOD:PUBLISH
X-ORIGINAL-URL:https://aaomsdev.com
X-WR-CALDESC:Events for AAOMS
REFRESH-INTERVAL;VALUE=DURATION:PT1H
X-Robots-Tag:noindex
X-PUBLISHED-TTL:PT1H
BEGIN:VTIMEZONE
TZID:America/Chicago
BEGIN:DAYLIGHT
TZOFFSETFROM:-0600
TZOFFSETTO:-0500
TZNAME:CDT
DTSTART:20240310T080000
END:DAYLIGHT
BEGIN:STANDARD
TZOFFSETFROM:-0500
TZOFFSETTO:-0600
TZNAME:CST
DTSTART:20241103T070000
END:STANDARD
BEGIN:DAYLIGHT
TZOFFSETFROM:-0600
TZOFFSETTO:-0500
TZNAME:CDT
DTSTART:20250309T080000
END:DAYLIGHT
BEGIN:STANDARD
TZOFFSETFROM:-0500
TZOFFSETTO:-0600
TZNAME:CST
DTSTART:20251102T070000
END:STANDARD
BEGIN:DAYLIGHT
TZOFFSETFROM:-0600
TZOFFSETTO:-0500
TZNAME:CDT
DTSTART:20260308T080000
END:DAYLIGHT
BEGIN:STANDARD
TZOFFSETFROM:-0500
TZOFFSETTO:-0600
TZNAME:CST
DTSTART:20261101T070000
END:STANDARD
END:VTIMEZONE
BEGIN:VEVENT
DTSTART;VALUE=DATE:20250503
DTEND;VALUE=DATE:20250505
DTSTAMP:20260422T082117
CREATED:20240822T173332Z
LAST-MODIFIED:20241115T231843Z
UID:15430-1746230400-1746403199@aaomsdev.com
SUMMARY:2025 AAOMS Educational Weekend
DESCRIPTION:
URL:/education-meetings/meetings/additional-offerings/aaoms-educational-weekend/
LOCATION:Sheraton Grand at Wild Horse Pass\, West Wild Horse Pass Boulevard 5594\, Chandler\, AZ\, 85226\, United States
CATEGORIES:CE,Coding and Billing,OMS,OMS Professional Staff,Practice Management,Resident
END:VEVENT
BEGIN:VEVENT
DTSTART;VALUE=DATE:20250503
DTEND;VALUE=DATE:20250505
DTSTAMP:20260422T082117
CREATED:20240822T174209Z
LAST-MODIFIED:20241115T234045Z
UID:15431-1746230400-1746403199@aaomsdev.com
SUMMARY:2025 Practice Priorities
DESCRIPTION:
URL:/education-meetings/meetings/additional-offerings/aaoms-educational-weekend/
LOCATION:Sheraton Grand at Wild Horse Pass\, West Wild Horse Pass Boulevard 5594\, Chandler\, AZ\, 85226\, United States
CATEGORIES:CE,OMS Professional Staff,Practice Management
END:VEVENT
BEGIN:VEVENT
DTSTART;VALUE=DATE:20250503
DTEND;VALUE=DATE:20250505
DTSTAMP:20260422T082117
CREATED:20240822T174404Z
LAST-MODIFIED:20241115T234105Z
UID:15432-1746230400-1746403199@aaomsdev.com
SUMMARY:2025 Beyond the Basics Coding Workshop
DESCRIPTION:
URL:/practice/practice-management/coding-reimbursement/coding-and-billing-courses/#beyond
LOCATION:Sheraton Grand at Wild Horse Pass\, West Wild Horse Pass Boulevard 5594\, Chandler\, AZ\, 85226\, United States
CATEGORIES:CE,Coding and Billing,OMS,OMS Professional Staff,Practice Management,Resident
END:VEVENT
BEGIN:VEVENT
DTSTART;VALUE=DATE:20250503
DTEND;VALUE=DATE:20250505
DTSTAMP:20260422T082117
CREATED:20240822T174449Z
LAST-MODIFIED:20241115T234125Z
UID:15433-1746230400-1746403199@aaomsdev.com
SUMMARY:2025 Advanced Protocols for Medical Emergencies
DESCRIPTION:
URL:/education-meetings/meetings/additional-offerings/aaoms-educational-weekend/
LOCATION:Sheraton Grand at Wild Horse Pass\, West Wild Horse Pass Boulevard 5594\, Chandler\, AZ\, 85226\, United States
CATEGORIES:CE,Coding and Billing,OMS Professional Staff,Practice Management
END:VEVENT
BEGIN:VEVENT
DTSTART;TZID=America/Chicago:20250514T130000
DTEND;TZID=America/Chicago:20250514T140000
DTSTAMP:20260422T082117
CREATED:20250218T175942Z
LAST-MODIFIED:20250218T181244Z
UID:16870-1747227600-1747231200@aaomsdev.com
SUMMARY:Tracking Inventory in the OMS Practice webinar
DESCRIPTION:
URL:https://ceonline.aaomsdev.com/products/tracking-inventory-in-the-oms-practice
CATEGORIES:OMS Professional Staff,Practice Management
END:VEVENT
END:VCALENDAR