BEGIN:VCALENDAR
VERSION:2.0
PRODID:-//AAOMS - ECPv6.15.20//NONSGML v1.0//EN
CALSCALE:GREGORIAN
METHOD:PUBLISH
X-ORIGINAL-URL:https://aaomsdev.com
X-WR-CALDESC:Events for AAOMS
REFRESH-INTERVAL;VALUE=DURATION:PT1H
X-Robots-Tag:noindex
X-PUBLISHED-TTL:PT1H
BEGIN:VTIMEZONE
TZID:America/Chicago
BEGIN:DAYLIGHT
TZOFFSETFROM:-0600
TZOFFSETTO:-0500
TZNAME:CDT
DTSTART:20240310T080000
END:DAYLIGHT
BEGIN:STANDARD
TZOFFSETFROM:-0500
TZOFFSETTO:-0600
TZNAME:CST
DTSTART:20241103T070000
END:STANDARD
BEGIN:DAYLIGHT
TZOFFSETFROM:-0600
TZOFFSETTO:-0500
TZNAME:CDT
DTSTART:20250309T080000
END:DAYLIGHT
BEGIN:STANDARD
TZOFFSETFROM:-0500
TZOFFSETTO:-0600
TZNAME:CST
DTSTART:20251102T070000
END:STANDARD
BEGIN:DAYLIGHT
TZOFFSETFROM:-0600
TZOFFSETTO:-0500
TZNAME:CDT
DTSTART:20260308T080000
END:DAYLIGHT
BEGIN:STANDARD
TZOFFSETFROM:-0500
TZOFFSETTO:-0600
TZNAME:CST
DTSTART:20261101T070000
END:STANDARD
END:VTIMEZONE
BEGIN:VEVENT
DTSTART;TZID=America/Chicago:20251015T130000
DTEND;TZID=America/Chicago:20251015T143000
DTSTAMP:20260421T135101
CREATED:20250801T131821Z
LAST-MODIFIED:20250801T131845Z
UID:18245-1760533200-1760538600@aaomsdev.com
SUMMARY:Conquering Employee Turnover with Effective Onboarding and Assimilation into the Practice Culture webinar
DESCRIPTION:
URL:https://ceonline.aaomsdev.com/products/conquering-employee-turnover-with-effective-onboarding-and-assimilation-into-the-practice-culture
CATEGORIES:CE,OMS Professional Staff,Practice Management
END:VEVENT
END:VCALENDAR