BEGIN:VCALENDAR
VERSION:2.0
PRODID:-//AAOMS - ECPv6.15.20//NONSGML v1.0//EN
CALSCALE:GREGORIAN
METHOD:PUBLISH
X-WR-CALNAME:AAOMS
X-ORIGINAL-URL:https://aaomsdev.com
X-WR-CALDESC:Events for AAOMS
REFRESH-INTERVAL;VALUE=DURATION:PT1H
X-Robots-Tag:noindex
X-PUBLISHED-TTL:PT1H
BEGIN:VTIMEZONE
TZID:America/New_York
BEGIN:DAYLIGHT
TZOFFSETFROM:-0500
TZOFFSETTO:-0400
TZNAME:EDT
DTSTART:20240310T070000
END:DAYLIGHT
BEGIN:STANDARD
TZOFFSETFROM:-0400
TZOFFSETTO:-0500
TZNAME:EST
DTSTART:20241103T060000
END:STANDARD
BEGIN:DAYLIGHT
TZOFFSETFROM:-0500
TZOFFSETTO:-0400
TZNAME:EDT
DTSTART:20250309T070000
END:DAYLIGHT
BEGIN:STANDARD
TZOFFSETFROM:-0400
TZOFFSETTO:-0500
TZNAME:EST
DTSTART:20251102T060000
END:STANDARD
BEGIN:DAYLIGHT
TZOFFSETFROM:-0500
TZOFFSETTO:-0400
TZNAME:EDT
DTSTART:20260308T070000
END:DAYLIGHT
BEGIN:STANDARD
TZOFFSETFROM:-0400
TZOFFSETTO:-0500
TZNAME:EST
DTSTART:20261101T060000
END:STANDARD
BEGIN:DAYLIGHT
TZOFFSETFROM:-0500
TZOFFSETTO:-0400
TZNAME:EDT
DTSTART:20270314T070000
END:DAYLIGHT
BEGIN:STANDARD
TZOFFSETFROM:-0400
TZOFFSETTO:-0500
TZNAME:EST
DTSTART:20271107T060000
END:STANDARD
END:VTIMEZONE
BEGIN:VTIMEZONE
TZID:America/Chicago
BEGIN:DAYLIGHT
TZOFFSETFROM:-0600
TZOFFSETTO:-0500
TZNAME:CDT
DTSTART:20240310T080000
END:DAYLIGHT
BEGIN:STANDARD
TZOFFSETFROM:-0500
TZOFFSETTO:-0600
TZNAME:CST
DTSTART:20241103T070000
END:STANDARD
BEGIN:DAYLIGHT
TZOFFSETFROM:-0600
TZOFFSETTO:-0500
TZNAME:CDT
DTSTART:20250309T080000
END:DAYLIGHT
BEGIN:STANDARD
TZOFFSETFROM:-0500
TZOFFSETTO:-0600
TZNAME:CST
DTSTART:20251102T070000
END:STANDARD
BEGIN:DAYLIGHT
TZOFFSETFROM:-0600
TZOFFSETTO:-0500
TZNAME:CDT
DTSTART:20260308T080000
END:DAYLIGHT
BEGIN:STANDARD
TZOFFSETFROM:-0500
TZOFFSETTO:-0600
TZNAME:CST
DTSTART:20261101T070000
END:STANDARD
END:VTIMEZONE
BEGIN:VEVENT
DTSTART;VALUE=DATE:20260228
DTEND;VALUE=DATE:20260302
DTSTAMP:20260420T163153
CREATED:20250703T170328Z
LAST-MODIFIED:20250703T170632Z
UID:18113-1772236800-1772409599@aaomsdev.com
SUMMARY:Anesthesia Assistants Review Course (AARC)
DESCRIPTION:
URL:/practice/anesthesia/anesthesia-assistants/education/aarc/
LOCATION:Westin Nashville\, 807 Clark Pl.\, Nashville\, TN\, 37203\, United States
CATEGORIES:CE,OMS Professional Staff,Practice Management
END:VEVENT
BEGIN:VEVENT
DTSTART;VALUE=DATE:20251206
DTEND;VALUE=DATE:20251207
DTSTAMP:20260420T163153
CREATED:20250612T130601Z
LAST-MODIFIED:20250612T131006Z
UID:17979-1764979200-1765065599@aaomsdev.com
SUMMARY:Anesthesia Assistants Skills Lab (AASL)
DESCRIPTION:
URL:/practice/anesthesia/anesthesia-assistants/education/aasl/
LOCATION:Sheraton Grand Chicago Riverwalk\, East North Water Street 301\, Chicago\, IL\, 60611\, United States
CATEGORIES:Clinical,OMS Professional Staff
END:VEVENT
BEGIN:VEVENT
DTSTART;VALUE=DATE:20251205
DTEND;VALUE=DATE:20251207
DTSTAMP:20260420T163153
CREATED:20250612T131221Z
LAST-MODIFIED:20250612T153438Z
UID:17982-1764892800-1765065599@aaomsdev.com
SUMMARY:Anesthesia Assistants Review Course (AARC)
DESCRIPTION:
URL:/practice/anesthesia/anesthesia-assistants/education/aarc/
LOCATION:Sheraton Grand Chicago Riverwalk\, East North Water Street 301\, Chicago\, IL\, 60611\, United States
CATEGORIES:Clinical,OMS Professional Staff
END:VEVENT
BEGIN:VEVENT
DTSTART;VALUE=DATE:20251204
DTEND;VALUE=DATE:20251207
DTSTAMP:20260420T163153
CREATED:20241204T173415Z
LAST-MODIFIED:20250519T145428Z
UID:16458-1764806400-1765065599@aaomsdev.com
SUMMARY:2025 Dental Implant Conference
DESCRIPTION:
URL:/dic
LOCATION:Sheraton Grand Chicago Riverwalk\, East North Water Street 301\, Chicago\, IL\, 60611\, United States
END:VEVENT
BEGIN:VEVENT
DTSTART;VALUE=DATE:20251204
DTEND;VALUE=DATE:20251205
DTSTAMP:20260420T163153
CREATED:20241017T191629Z
LAST-MODIFIED:20241115T234338Z
UID:16081-1764806400-1764892799@aaomsdev.com
SUMMARY:Office-Based Emergency Airway Management (OBEAM) Module
DESCRIPTION:
URL:/practice/anesthesia/aaoms-national-simulation-program/2025-obeam/
LOCATION:Daniel M. Laskin Institute for OMS Education and Innovation\, AAOMS Headquarters\, West Bryn Mawr Avenue 9700\, Rosemont\, IL\, 60018\, United States
CATEGORIES:Clinical,OMS Professional Staff
END:VEVENT
BEGIN:VEVENT
DTSTART;TZID=America/Chicago:20251118T180000
DTEND;TZID=America/Chicago:20251118T190000
DTSTAMP:20260420T163153
CREATED:20250815T154556Z
LAST-MODIFIED:20250815T154616Z
UID:18287-1763488800-1763492400@aaomsdev.com
SUMMARY:Dynamic Navigation Systems in Implant Surgery: From Planning to Placement to Final Impression webinar (2 of 2)
DESCRIPTION:
URL:https://aaomsdev.com/events/dynamic-navigation-systems-in-implant-surgery-from-planning-to-placement-to-final-impression/
CATEGORIES:CE,Clinical,OMS,Resident
END:VEVENT
BEGIN:VEVENT
DTSTART;TZID=America/Chicago:20251112T130000
DTEND;TZID=America/Chicago:20251112T143000
DTSTAMP:20260420T163153
CREATED:20250821T170635Z
LAST-MODIFIED:20250821T170655Z
UID:18318-1762952400-1762957800@aaomsdev.com
SUMMARY:Medical and Dental Crosswalking: Billing Do's and Don'ts webinar
DESCRIPTION:
URL:https://ceonline.aaomsdev.com/products/medical-and-dental-crosswalking-billing-dos-and-donts
CATEGORIES:CE,Coding and Billing,OMS Professional Staff
END:VEVENT
BEGIN:VEVENT
DTSTART;TZID=America/Chicago:20251111T180000
DTEND;TZID=America/Chicago:20251111T190000
DTSTAMP:20260420T163153
CREATED:20250815T154205Z
LAST-MODIFIED:20250815T154324Z
UID:18285-1762884000-1762887600@aaomsdev.com
SUMMARY:Allogenic Bone Grafts for Dental Implants: Science and Techniques webinar (1 of 2)
DESCRIPTION:
URL:https://ceonline.aaomsdev.com/products/clinical-webinar-series-on-dental-implants-3
CATEGORIES:CE,Clinical,OMS,Resident
END:VEVENT
BEGIN:VEVENT
DTSTART;TZID=America/Chicago:20251105T130000
DTEND;TZID=America/Chicago:20251105T143000
DTSTAMP:20260420T163153
CREATED:20250815T153738Z
LAST-MODIFIED:20250815T153810Z
UID:18284-1762347600-1762353000@aaomsdev.com
SUMMARY:Hiring Your Next Associate: Four Tools to Get it Right Every Time webinar
DESCRIPTION:
URL:https://ceonline.aaomsdev.com/products/hiring-your-next-associate-four-tools-to-get-it-right-every-time
CATEGORIES:CE,OMS Professional Staff,Practice Management
END:VEVENT
BEGIN:VEVENT
DTSTART;VALUE=DATE:20251018
DTEND;VALUE=DATE:20251019
DTSTAMP:20260420T163153
CREATED:20241017T191505Z
LAST-MODIFIED:20241115T234318Z
UID:16080-1760745600-1760831999@aaomsdev.com
SUMMARY:Office-Based Emergency Airway Management (OBEAM) Module
DESCRIPTION:
URL:/practice/anesthesia/aaoms-national-simulation-program/2025-obeam/
LOCATION:Daniel M. Laskin Institute for OMS Education and Innovation\, AAOMS Headquarters\, West Bryn Mawr Avenue 9700\, Rosemont\, IL\, 60018\, United States
CATEGORIES:Clinical,OMS Professional Staff
END:VEVENT
BEGIN:VEVENT
DTSTART;TZID=America/Chicago:20251015T130000
DTEND;TZID=America/Chicago:20251015T143000
DTSTAMP:20260420T163153
CREATED:20250801T131821Z
LAST-MODIFIED:20250801T131845Z
UID:18245-1760533200-1760538600@aaomsdev.com
SUMMARY:Conquering Employee Turnover with Effective Onboarding and Assimilation into the Practice Culture webinar
DESCRIPTION:
URL:https://ceonline.aaomsdev.com/products/conquering-employee-turnover-with-effective-onboarding-and-assimilation-into-the-practice-culture
CATEGORIES:CE,OMS Professional Staff,Practice Management
END:VEVENT
BEGIN:VEVENT
DTSTART;TZID=America/Chicago:20251008T130000
DTEND;TZID=America/Chicago:20251008T143000
DTSTAMP:20260420T163153
CREATED:20250718T230003Z
LAST-MODIFIED:20250718T230045Z
UID:18180-1759928400-1759933800@aaomsdev.com
SUMMARY:Claim Success Strategies: How to Minimize Denials and Maximize Efficiency webinar
DESCRIPTION:
URL:https://ceonline.aaomsdev.com/products/claim-success-strategies-how-to-minimize-denials-and-maximize-efficiency
CATEGORIES:CE,Coding and Billing,OMS Professional Staff
END:VEVENT
BEGIN:VEVENT
DTSTART;VALUE=DATE:20250919
DTEND;VALUE=DATE:20250920
DTSTAMP:20260420T163153
CREATED:20250612T130325Z
LAST-MODIFIED:20250612T130732Z
UID:17978-1758240000-1758326399@aaomsdev.com
SUMMARY:Anesthesia Assistants Skills Lab (AASL)
DESCRIPTION:
URL:/practice/anesthesia/anesthesia-assistants/education/aasl/
LOCATION:Walter E. Washington Convention Center\, Marriott Marquis Washington\, D.C.\, Lew Place NW\, Washington\, DC\, 20001\, United States
CATEGORIES:Clinical,OMS Professional Staff
END:VEVENT
BEGIN:VEVENT
DTSTART;VALUE=DATE:20250917
DTEND;VALUE=DATE:20250919
DTSTAMP:20260420T163153
CREATED:20250423T182419Z
LAST-MODIFIED:20250424T171848Z
UID:17577-1758067200-1758239999@aaomsdev.com
SUMMARY:Beyond the Basics Coding Workshop
DESCRIPTION:
URL:/practice/practice-management/coding-reimbursement/coding-and-billing-courses/
CATEGORIES:Coding and Billing,OMS Professional Staff
END:VEVENT
BEGIN:VEVENT
DTSTART;VALUE=DATE:20250915
DTEND;VALUE=DATE:20250921
DTSTAMP:20260420T163153
CREATED:20240506T164152Z
LAST-MODIFIED:20241212T215029Z
UID:12165-1757894400-1758412799@aaomsdev.com
SUMMARY:107th Annual Meeting\, Scientific Sessions and Exhibition
DESCRIPTION:
URL:/education-meetings/meetings/2025-annual-meeting/
LOCATION:Walter E. Washington Convention Center\, Marriott Marquis Washington\, D.C.\, Lew Place NW\, Washington\, DC\, 20001\, United States
CATEGORIES:Clinical,OMS,OMS Professional Staff,Practice Management,Resident
END:VEVENT
BEGIN:VEVENT
DTSTART;TZID=America/Chicago:20250813T180000
DTEND;TZID=America/Chicago:20250813T190000
DTSTAMP:20260420T163153
CREATED:20250527T220942Z
LAST-MODIFIED:20250527T221001Z
UID:17878-1755108000-1755111600@aaomsdev.com
SUMMARY:Preventing and Managing Challenges in Dentoalveolar Surgery webinar
DESCRIPTION:
URL:https://ceonline.aaomsdev.com/products/preventing-and-managing-challenges-in-dentoalveolar-surgery
END:VEVENT
BEGIN:VEVENT
DTSTART;TZID=America/Chicago:20250716T180000
DTEND;TZID=America/Chicago:20250716T190000
DTSTAMP:20260420T163153
CREATED:20250422T193141Z
LAST-MODIFIED:20250422T193603Z
UID:17561-1752688800-1752692400@aaomsdev.com
SUMMARY:The Contemporary Management of Patients with Temporomandibular Joint Intra-articular Pain and Dysfunction (IPD) webinar
DESCRIPTION:
URL:https://ceonline.aaomsdev.com/products/the-contemporary-management-of-patients-with-temporomandibular-joint-intra-articular-pain-and-dysfunction-ipd
CATEGORIES:Clinical,OMS,Resident
END:VEVENT
BEGIN:VEVENT
DTSTART;TZID=America/Chicago:20250527T180000
DTEND;TZID=America/Chicago:20250527T190000
DTSTAMP:20260420T163153
CREATED:20250311T193810Z
LAST-MODIFIED:20250311T193823Z
UID:17038-1748368800-1748372400@aaomsdev.com
SUMMARY:Enhanced Recovery After Surgery (ERAS) Protocols in Oral and Maxillofacial Surgery webinar
DESCRIPTION:
URL:https://ceonline.aaomsdev.com/products/enhanced-recovery-after-surgery-eras-protocols-in-oral-and-maxillofacial-surgery
CATEGORIES:CE,Clinical,OMS,Resident
END:VEVENT
BEGIN:VEVENT
DTSTART;TZID=America/Chicago:20250520T180000
DTEND;TZID=America/Chicago:20250520T190000
DTSTAMP:20260420T163153
CREATED:20250311T193558Z
LAST-MODIFIED:20250311T193856Z
UID:17037-1747764000-1747767600@aaomsdev.com
SUMMARY:Orthognathic Surgery in Gender Affirmation webinar
DESCRIPTION:
URL:https://ceonline.aaomsdev.com/products/orthognathic-surgery-in-gender-affirmation
CATEGORIES:CE,Clinical,OMS,Resident
END:VEVENT
BEGIN:VEVENT
DTSTART;VALUE=DATE:20250517
DTEND;VALUE=DATE:20250518
DTSTAMP:20260420T163153
CREATED:20241017T191313Z
LAST-MODIFIED:20241115T234307Z
UID:16079-1747440000-1747526399@aaomsdev.com
SUMMARY:Office-Based Emergency Airway Management (OBEAM) Module
DESCRIPTION:
URL:/practice/anesthesia/aaoms-national-simulation-program/2025-obeam/
LOCATION:Daniel M. Laskin Institute for OMS Education and Innovation\, AAOMS Headquarters\, West Bryn Mawr Avenue 9700\, Rosemont\, IL\, 60018\, United States
CATEGORIES:Clinical,OMS Professional Staff
END:VEVENT
BEGIN:VEVENT
DTSTART;TZID=America/Chicago:20250514T130000
DTEND;TZID=America/Chicago:20250514T140000
DTSTAMP:20260420T163153
CREATED:20250218T175942Z
LAST-MODIFIED:20250218T181244Z
UID:16870-1747227600-1747231200@aaomsdev.com
SUMMARY:Tracking Inventory in the OMS Practice webinar
DESCRIPTION:
URL:https://ceonline.aaomsdev.com/products/tracking-inventory-in-the-oms-practice
CATEGORIES:OMS Professional Staff,Practice Management
END:VEVENT
BEGIN:VEVENT
DTSTART;VALUE=DATE:20250503
DTEND;VALUE=DATE:20250505
DTSTAMP:20260420T163153
CREATED:20240822T174449Z
LAST-MODIFIED:20241115T234125Z
UID:15433-1746230400-1746403199@aaomsdev.com
SUMMARY:2025 Advanced Protocols for Medical Emergencies
DESCRIPTION:
URL:/education-meetings/meetings/additional-offerings/aaoms-educational-weekend/
LOCATION:Sheraton Grand at Wild Horse Pass\, West Wild Horse Pass Boulevard 5594\, Chandler\, AZ\, 85226\, United States
CATEGORIES:CE,Coding and Billing,OMS Professional Staff,Practice Management
END:VEVENT
BEGIN:VEVENT
DTSTART;VALUE=DATE:20250503
DTEND;VALUE=DATE:20250505
DTSTAMP:20260420T163153
CREATED:20240822T174404Z
LAST-MODIFIED:20241115T234105Z
UID:15432-1746230400-1746403199@aaomsdev.com
SUMMARY:2025 Beyond the Basics Coding Workshop
DESCRIPTION:
URL:/practice/practice-management/coding-reimbursement/coding-and-billing-courses/#beyond
LOCATION:Sheraton Grand at Wild Horse Pass\, West Wild Horse Pass Boulevard 5594\, Chandler\, AZ\, 85226\, United States
CATEGORIES:CE,Coding and Billing,OMS,OMS Professional Staff,Practice Management,Resident
END:VEVENT
BEGIN:VEVENT
DTSTART;VALUE=DATE:20250503
DTEND;VALUE=DATE:20250505
DTSTAMP:20260420T163153
CREATED:20240822T174209Z
LAST-MODIFIED:20241115T234045Z
UID:15431-1746230400-1746403199@aaomsdev.com
SUMMARY:2025 Practice Priorities
DESCRIPTION:
URL:/education-meetings/meetings/additional-offerings/aaoms-educational-weekend/
LOCATION:Sheraton Grand at Wild Horse Pass\, West Wild Horse Pass Boulevard 5594\, Chandler\, AZ\, 85226\, United States
CATEGORIES:CE,OMS Professional Staff,Practice Management
END:VEVENT
BEGIN:VEVENT
DTSTART;VALUE=DATE:20250503
DTEND;VALUE=DATE:20250505
DTSTAMP:20260420T163153
CREATED:20240822T173332Z
LAST-MODIFIED:20241115T231843Z
UID:15430-1746230400-1746403199@aaomsdev.com
SUMMARY:2025 AAOMS Educational Weekend
DESCRIPTION:
URL:/education-meetings/meetings/additional-offerings/aaoms-educational-weekend/
LOCATION:Sheraton Grand at Wild Horse Pass\, West Wild Horse Pass Boulevard 5594\, Chandler\, AZ\, 85226\, United States
CATEGORIES:CE,Coding and Billing,OMS,OMS Professional Staff,Practice Management,Resident
END:VEVENT
BEGIN:VEVENT
DTSTART;TZID=America/Chicago:20250429T180000
DTEND;TZID=America/Chicago:20250429T190000
DTSTAMP:20260420T163153
CREATED:20250404T172812Z
LAST-MODIFIED:20250404T182326Z
UID:17312-1745949600-1745953200@aaomsdev.com
SUMMARY:Incidentalomas: Recognizing and Managing Common Incidental CBCT Findings that Matter webinar
DESCRIPTION:
URL:https://ceonline.aaomsdev.com/products/incidentalomas-recognizing-and-managing-common-incidental-cbct-findings-that-matter
CATEGORIES:CE,Clinical,OMS,Resident
END:VEVENT
BEGIN:VEVENT
DTSTART;TZID=America/Chicago:20250416T130000
DTEND;TZID=America/Chicago:20250416T140000
DTSTAMP:20260420T163153
CREATED:20250130T201049Z
LAST-MODIFIED:20250218T181231Z
UID:16740-1744808400-1744812000@aaomsdev.com
SUMMARY:You’re in Charge of OSHA and Infection Control – Now What? webinar
DESCRIPTION:
URL:https://ceonline.aaomsdev.com/products/youre-in-charge-of-osha-and-infection-control-now-what
CATEGORIES:CE,OMS Professional Staff,Practice Management
END:VEVENT
BEGIN:VEVENT
DTSTART;TZID=America/Chicago:20250409T130000
DTEND;TZID=America/Chicago:20250409T140000
DTSTAMP:20260420T163153
CREATED:20250124T181302Z
LAST-MODIFIED:20250124T182647Z
UID:16709-1744203600-1744207200@aaomsdev.com
SUMMARY:Identifying Revenue Leakage in the OMS Practice webinar
DESCRIPTION:
URL:https://ceonline.aaomsdev.com/products/identifying-revenue-leakage-in-the-oms-practice
CATEGORIES:CE,Coding and Billing,OMS Professional Staff
END:VEVENT
BEGIN:VEVENT
DTSTART;VALUE=DATE:20250325
DTEND;VALUE=DATE:20250327
DTSTAMP:20260420T163153
CREATED:20240819T035605Z
LAST-MODIFIED:20241115T232658Z
UID:15337-1742860800-1743033599@aaomsdev.com
SUMMARY:2025 Day on the Hill
DESCRIPTION:
URL:/education-meetings/meetings/day-on-the-hill/
LOCATION:Grand Hyatt Washington\, Washington\, DC\, H Street Northwest 1000\, Washington\, DC\, 20001\, United States
CATEGORIES:Advocacy
END:VEVENT
BEGIN:VEVENT
DTSTART;TZID=America/Chicago:20250320T180000
DTEND;TZID=America/Chicago:20250320T190000
DTSTAMP:20260420T163153
CREATED:20250122T155418Z
LAST-MODIFIED:20250122T163940Z
UID:16682-1742493600-1742497200@aaomsdev.com
SUMMARY:How to Create Effective Emergency Drills for Your OMS Practice webinar
DESCRIPTION:
URL:https://ceonline.aaomsdev.com/products/how-to-create-effective-emergency-drills-for-your-oms-practice
CATEGORIES:CE,Clinical,OMS,OMS Professional Staff,Resident
END:VEVENT
END:VCALENDAR