BEGIN:VCALENDAR
VERSION:2.0
PRODID:-//AAOMS - ECPv6.15.20//NONSGML v1.0//EN
CALSCALE:GREGORIAN
METHOD:PUBLISH
X-WR-CALNAME:AAOMS
X-ORIGINAL-URL:https://aaomsdev.com
X-WR-CALDESC:Events for AAOMS
REFRESH-INTERVAL;VALUE=DURATION:PT1H
X-Robots-Tag:noindex
X-PUBLISHED-TTL:PT1H
BEGIN:VTIMEZONE
TZID:America/Chicago
BEGIN:DAYLIGHT
TZOFFSETFROM:-0600
TZOFFSETTO:-0500
TZNAME:CDT
DTSTART:20240310T080000
END:DAYLIGHT
BEGIN:STANDARD
TZOFFSETFROM:-0500
TZOFFSETTO:-0600
TZNAME:CST
DTSTART:20241103T070000
END:STANDARD
BEGIN:DAYLIGHT
TZOFFSETFROM:-0600
TZOFFSETTO:-0500
TZNAME:CDT
DTSTART:20250309T080000
END:DAYLIGHT
BEGIN:STANDARD
TZOFFSETFROM:-0500
TZOFFSETTO:-0600
TZNAME:CST
DTSTART:20251102T070000
END:STANDARD
BEGIN:DAYLIGHT
TZOFFSETFROM:-0600
TZOFFSETTO:-0500
TZNAME:CDT
DTSTART:20260308T080000
END:DAYLIGHT
BEGIN:STANDARD
TZOFFSETFROM:-0500
TZOFFSETTO:-0600
TZNAME:CST
DTSTART:20261101T070000
END:STANDARD
END:VTIMEZONE
BEGIN:VEVENT
DTSTART;TZID=America/Chicago:20251105T130000
DTEND;TZID=America/Chicago:20251105T143000
DTSTAMP:20260420T171224
CREATED:20250815T153738Z
LAST-MODIFIED:20250815T153810Z
UID:18284-1762347600-1762353000@aaomsdev.com
SUMMARY:Hiring Your Next Associate: Four Tools to Get it Right Every Time webinar
DESCRIPTION:
URL:https://ceonline.aaomsdev.com/products/hiring-your-next-associate-four-tools-to-get-it-right-every-time
CATEGORIES:CE,OMS Professional Staff,Practice Management
END:VEVENT
BEGIN:VEVENT
DTSTART;TZID=America/Chicago:20251111T180000
DTEND;TZID=America/Chicago:20251111T190000
DTSTAMP:20260420T171224
CREATED:20250815T154205Z
LAST-MODIFIED:20250815T154324Z
UID:18285-1762884000-1762887600@aaomsdev.com
SUMMARY:Allogenic Bone Grafts for Dental Implants: Science and Techniques webinar (1 of 2)
DESCRIPTION:
URL:https://ceonline.aaomsdev.com/products/clinical-webinar-series-on-dental-implants-3
CATEGORIES:CE,Clinical,OMS,Resident
END:VEVENT
BEGIN:VEVENT
DTSTART;TZID=America/Chicago:20251112T130000
DTEND;TZID=America/Chicago:20251112T143000
DTSTAMP:20260420T171224
CREATED:20250821T170635Z
LAST-MODIFIED:20250821T170655Z
UID:18318-1762952400-1762957800@aaomsdev.com
SUMMARY:Medical and Dental Crosswalking: Billing Do's and Don'ts webinar
DESCRIPTION:
URL:https://ceonline.aaomsdev.com/products/medical-and-dental-crosswalking-billing-dos-and-donts
CATEGORIES:CE,Coding and Billing,OMS Professional Staff
END:VEVENT
BEGIN:VEVENT
DTSTART;TZID=America/Chicago:20251118T180000
DTEND;TZID=America/Chicago:20251118T190000
DTSTAMP:20260420T171224
CREATED:20250815T154556Z
LAST-MODIFIED:20250815T154616Z
UID:18287-1763488800-1763492400@aaomsdev.com
SUMMARY:Dynamic Navigation Systems in Implant Surgery: From Planning to Placement to Final Impression webinar (2 of 2)
DESCRIPTION:
URL:https://aaomsdev.com/events/dynamic-navigation-systems-in-implant-surgery-from-planning-to-placement-to-final-impression/
CATEGORIES:CE,Clinical,OMS,Resident
END:VEVENT
END:VCALENDAR